BEGIN:VCALENDAR
VERSION:2.0
PRODID:-//SPAH - ECPv6.15.18//NONSGML v1.0//EN
CALSCALE:GREGORIAN
METHOD:PUBLISH
X-ORIGINAL-URL:https://www.spah.cl
X-WR-CALDESC:Eventos para SPAH
REFRESH-INTERVAL;VALUE=DURATION:PT1H
X-Robots-Tag:noindex
X-PUBLISHED-TTL:PT1H
BEGIN:VTIMEZONE
TZID:America/Santiago
BEGIN:STANDARD
TZOFFSETFROM:-0300
TZOFFSETTO:-0400
TZNAME:-04
DTSTART:20240407T030000
END:STANDARD
BEGIN:DAYLIGHT
TZOFFSETFROM:-0400
TZOFFSETTO:-0300
TZNAME:-03
DTSTART:20240908T040000
END:DAYLIGHT
BEGIN:STANDARD
TZOFFSETFROM:-0300
TZOFFSETTO:-0400
TZNAME:-04
DTSTART:20250406T030000
END:STANDARD
BEGIN:DAYLIGHT
TZOFFSETFROM:-0400
TZOFFSETTO:-0300
TZNAME:-03
DTSTART:20250907T040000
END:DAYLIGHT
BEGIN:STANDARD
TZOFFSETFROM:-0300
TZOFFSETTO:-0400
TZNAME:-04
DTSTART:20260405T030000
END:STANDARD
BEGIN:DAYLIGHT
TZOFFSETFROM:-0400
TZOFFSETTO:-0300
TZNAME:-03
DTSTART:20260906T040000
END:DAYLIGHT
END:VTIMEZONE
BEGIN:VEVENT
DTSTART;TZID=America/Santiago:20251111T200000
DTEND;TZID=America/Santiago:20251111T213000
DTSTAMP:20260421T020948
CREATED:20251008T160454Z
LAST-MODIFIED:20251008T161134Z
UID:2882-1762891200-1762896600@www.spah.cl
SUMMARY:WEBINAR - Failled ventral hernias: What to do with the prior mesh? How to handle prior components separation?
DESCRIPTION:Expositora: Dra. Jenny Shao \nInscripciones AQUÍ
URL:https://www.spah.cl/event/webinar-failled-ventral-hernias-what-to-do-with-the-prior-mesh-how-to-handle-prior-components-separation/
ATTACH;FMTTYPE=image/png:https://www.spah.cl/wp-content/uploads/2025/10/WEBINAR-SEPTIEMBRE-7.png
END:VEVENT
END:VCALENDAR