BEGIN:VCALENDAR
VERSION:2.0
PRODID:-//SPAH - ECPv6.15.18//NONSGML v1.0//EN
CALSCALE:GREGORIAN
METHOD:PUBLISH
X-WR-CALNAME:SPAH
X-ORIGINAL-URL:https://www.spah.cl
X-WR-CALDESC:Eventos para SPAH
REFRESH-INTERVAL;VALUE=DURATION:PT1H
X-Robots-Tag:noindex
X-PUBLISHED-TTL:PT1H
BEGIN:VTIMEZONE
TZID:UTC
BEGIN:STANDARD
TZOFFSETFROM:+0000
TZOFFSETTO:+0000
TZNAME:UTC
DTSTART:20220101T000000
END:STANDARD
END:VTIMEZONE
BEGIN:VEVENT
DTSTART;TZID=UTC:20230630T080000
DTEND;TZID=UTC:20230701T230000
DTSTAMP:20260422T163505
CREATED:20240315T191757Z
LAST-MODIFIED:20240404T205552Z
UID:591-1688112000-1688252400@www.spah.cl
SUMMARY:III CONGRESO INTERNACIONAL SPAH-CHILE
DESCRIPTION: 
URL:https://www.spah.cl/event/prueba-2/
LOCATION:Las condes\, las condes\, santiago\, Santiago\, Chile
ATTACH;FMTTYPE=image/png:https://www.spah.cl/wp-content/uploads/2024/03/Copia-de-SPAH-23-POST29.png
ORGANIZER;CN="sociedades humanas":MAILTO:correo@correo.com
END:VEVENT
END:VCALENDAR