BEGIN:VCALENDAR
VERSION:2.0
PRODID:-//SPAH - ECPv6.15.18//NONSGML v1.0//EN
CALSCALE:GREGORIAN
METHOD:PUBLISH
X-ORIGINAL-URL:https://www.spah.cl
X-WR-CALDESC:Eventos para SPAH
REFRESH-INTERVAL;VALUE=DURATION:PT1H
X-Robots-Tag:noindex
X-PUBLISHED-TTL:PT1H
BEGIN:VTIMEZONE
TZID:America/Santiago
BEGIN:STANDARD
TZOFFSETFROM:-0300
TZOFFSETTO:-0400
TZNAME:-04
DTSTART:20240407T030000
END:STANDARD
BEGIN:DAYLIGHT
TZOFFSETFROM:-0400
TZOFFSETTO:-0300
TZNAME:-03
DTSTART:20240908T040000
END:DAYLIGHT
BEGIN:STANDARD
TZOFFSETFROM:-0300
TZOFFSETTO:-0400
TZNAME:-04
DTSTART:20250406T030000
END:STANDARD
BEGIN:DAYLIGHT
TZOFFSETFROM:-0400
TZOFFSETTO:-0300
TZNAME:-03
DTSTART:20250907T040000
END:DAYLIGHT
BEGIN:STANDARD
TZOFFSETFROM:-0300
TZOFFSETTO:-0400
TZNAME:-04
DTSTART:20260405T030000
END:STANDARD
BEGIN:DAYLIGHT
TZOFFSETFROM:-0400
TZOFFSETTO:-0300
TZNAME:-03
DTSTART:20260906T040000
END:DAYLIGHT
END:VTIMEZONE
BEGIN:VEVENT
DTSTART;TZID=America/Santiago:20251018T080000
DTEND;TZID=America/Santiago:20251018T160000
DTSTAMP:20260421T045111
CREATED:20250915T172413Z
LAST-MODIFIED:20250915T172413Z
UID:2868-1760774400-1760803200@www.spah.cl
SUMMARY:3ra. Jornada Académica Presencial SPAH - Temuco
DESCRIPTION:Directoras: Dras. Macarena Díaz y Analía Zinco \nInscripciones AQUÍ \nPrograma: DESCARGUE AQUÍ
URL:https://www.spah.cl/event/3ra-jornada-academica-presencial-spah-temuco/
LOCATION:Facultad Medicina UFRO\, Claro Solar 115\, Temuco\, Región Araucanía\, Chile
ATTACH;FMTTYPE=image/jpeg:https://www.spah.cl/wp-content/uploads/2025/09/Jornada-SPAH-Temuco-2025-1.jpg
END:VEVENT
END:VCALENDAR