BEGIN:VCALENDAR
VERSION:2.0
PRODID:-//SPAH - ECPv6.15.18//NONSGML v1.0//EN
CALSCALE:GREGORIAN
METHOD:PUBLISH
X-ORIGINAL-URL:https://www.spah.cl
X-WR-CALDESC:Eventos para SPAH
REFRESH-INTERVAL;VALUE=DURATION:PT1H
X-Robots-Tag:noindex
X-PUBLISHED-TTL:PT1H
BEGIN:VTIMEZONE
TZID:America/Santiago
BEGIN:STANDARD
TZOFFSETFROM:-0300
TZOFFSETTO:-0400
TZNAME:-04
DTSTART:20240407T030000
END:STANDARD
BEGIN:DAYLIGHT
TZOFFSETFROM:-0400
TZOFFSETTO:-0300
TZNAME:-03
DTSTART:20240908T040000
END:DAYLIGHT
BEGIN:STANDARD
TZOFFSETFROM:-0300
TZOFFSETTO:-0400
TZNAME:-04
DTSTART:20250406T030000
END:STANDARD
BEGIN:DAYLIGHT
TZOFFSETFROM:-0400
TZOFFSETTO:-0300
TZNAME:-03
DTSTART:20250907T040000
END:DAYLIGHT
BEGIN:STANDARD
TZOFFSETFROM:-0300
TZOFFSETTO:-0400
TZNAME:-04
DTSTART:20260405T030000
END:STANDARD
BEGIN:DAYLIGHT
TZOFFSETFROM:-0400
TZOFFSETTO:-0300
TZNAME:-03
DTSTART:20260906T040000
END:DAYLIGHT
END:VTIMEZONE
BEGIN:VEVENT
DTSTART;TZID=America/Santiago:20250716T080000
DTEND;TZID=America/Santiago:20250719T170000
DTSTAMP:20260421T085039
CREATED:20250430T093246Z
LAST-MODIFIED:20250430T093312Z
UID:2642-1752652800-1752944400@www.spah.cl
SUMMARY:Congreso SPAH 2025
DESCRIPTION:
URL:https://www.spah.cl/event/congreso-spah-2025/
LOCATION:Hotel Intercontinental\, Av Vitacura 2885\, Las Condes\, Santiago\, Chile
END:VEVENT
END:VCALENDAR