BEGIN:VCALENDAR
VERSION:2.0
PRODID:-//SPAH - ECPv6.15.18//NONSGML v1.0//EN
CALSCALE:GREGORIAN
METHOD:PUBLISH
X-WR-CALNAME:SPAH
X-ORIGINAL-URL:https://www.spah.cl
X-WR-CALDESC:Eventos para SPAH
REFRESH-INTERVAL;VALUE=DURATION:PT1H
X-Robots-Tag:noindex
X-PUBLISHED-TTL:PT1H
BEGIN:VTIMEZONE
TZID:America/Santiago
BEGIN:STANDARD
TZOFFSETFROM:-0300
TZOFFSETTO:-0400
TZNAME:-04
DTSTART:20240407T030000
END:STANDARD
BEGIN:DAYLIGHT
TZOFFSETFROM:-0400
TZOFFSETTO:-0300
TZNAME:-03
DTSTART:20240908T040000
END:DAYLIGHT
BEGIN:STANDARD
TZOFFSETFROM:-0300
TZOFFSETTO:-0400
TZNAME:-04
DTSTART:20250406T030000
END:STANDARD
BEGIN:DAYLIGHT
TZOFFSETFROM:-0400
TZOFFSETTO:-0300
TZNAME:-03
DTSTART:20250907T040000
END:DAYLIGHT
BEGIN:STANDARD
TZOFFSETFROM:-0300
TZOFFSETTO:-0400
TZNAME:-04
DTSTART:20260405T030000
END:STANDARD
BEGIN:DAYLIGHT
TZOFFSETFROM:-0400
TZOFFSETTO:-0300
TZNAME:-03
DTSTART:20260906T040000
END:DAYLIGHT
END:VTIMEZONE
BEGIN:VEVENT
DTSTART;TZID=America/Santiago:20250604T200000
DTEND;TZID=America/Santiago:20250604T213000
DTSTAMP:20260421T101324
CREATED:20250508T221243Z
LAST-MODIFIED:20250508T221243Z
UID:2660-1749067200-1749072600@www.spah.cl
SUMMARY:Shouldice: Desde el Hospital de Shouldice
DESCRIPTION:Organizado por SPAH – Dirección Académica y Extensión \nExpositora invitada: Dra. Megan Smith \n\nPresidente Sociedad Canadiense de Cirugía de Hernia\nCompletó su residencia en cirugía general en la Universidad de Toronto. Posteriormente\, realizó una beca de investigación en Reconstrucción Avanzada de la Pared Abdominal en la Clínica Cleveland\, Ohio\, EE. UU.\nActualmente ejerce en el Hospital General de North York\, donde se especializa en hernias complejas que requieren técnicas reconstructivas avanzadas. También le interesa la investigación sobre hernias y la mejora de la calidad.\n\nInscripciones AQUÍ
URL:https://www.spah.cl/event/shouldice-desde-el-hospital-de-shouldice/
ATTACH;FMTTYPE=image/jpeg:https://www.spah.cl/wp-content/uploads/2025/05/WEBINAR-JUNIO.jpg
END:VEVENT
END:VCALENDAR