BEGIN:VCALENDAR
VERSION:2.0
PRODID:-//SPAH - ECPv6.15.18//NONSGML v1.0//EN
CALSCALE:GREGORIAN
METHOD:PUBLISH
X-WR-CALNAME:SPAH
X-ORIGINAL-URL:https://www.spah.cl
X-WR-CALDESC:Eventos para SPAH
REFRESH-INTERVAL;VALUE=DURATION:PT1H
X-Robots-Tag:noindex
X-PUBLISHED-TTL:PT1H
BEGIN:VTIMEZONE
TZID:America/Santiago
BEGIN:STANDARD
TZOFFSETFROM:-0300
TZOFFSETTO:-0400
TZNAME:-04
DTSTART:20240407T030000
END:STANDARD
BEGIN:DAYLIGHT
TZOFFSETFROM:-0400
TZOFFSETTO:-0300
TZNAME:-03
DTSTART:20240908T040000
END:DAYLIGHT
BEGIN:STANDARD
TZOFFSETFROM:-0300
TZOFFSETTO:-0400
TZNAME:-04
DTSTART:20250406T030000
END:STANDARD
BEGIN:DAYLIGHT
TZOFFSETFROM:-0400
TZOFFSETTO:-0300
TZNAME:-03
DTSTART:20250907T040000
END:DAYLIGHT
BEGIN:STANDARD
TZOFFSETFROM:-0300
TZOFFSETTO:-0400
TZNAME:-04
DTSTART:20260405T030000
END:STANDARD
BEGIN:DAYLIGHT
TZOFFSETFROM:-0400
TZOFFSETTO:-0300
TZNAME:-03
DTSTART:20260906T040000
END:DAYLIGHT
END:VTIMEZONE
BEGIN:VEVENT
DTSTART;TZID=America/Santiago:20250403T200000
DTEND;TZID=America/Santiago:20250403T213000
DTSTAMP:20260421T125707
CREATED:20250317T164555Z
LAST-MODIFIED:20250317T164555Z
UID:2563-1743710400-1743715800@www.spah.cl
SUMMARY:Hernioplastía ventral totalmente extraperitoneal
DESCRIPTION:Organizado por SPAH – Dirección Académica y Extensión \nExpositor invitado: Dr. Héctor Valenzuela \nInscripciones AQUÍ
URL:https://www.spah.cl/event/hernioplastia-ventral-totalmente-extraperitoneal/
ATTACH;FMTTYPE=image/jpeg:https://www.spah.cl/wp-content/uploads/2025/03/WEBINAR-ABRIL.jpg
END:VEVENT
END:VCALENDAR