BEGIN:VCALENDAR
VERSION:2.0
PRODID:-//SPAH - ECPv6.15.18//NONSGML v1.0//EN
CALSCALE:GREGORIAN
METHOD:PUBLISH
X-ORIGINAL-URL:https://www.spah.cl
X-WR-CALDESC:Eventos para SPAH
REFRESH-INTERVAL;VALUE=DURATION:PT1H
X-Robots-Tag:noindex
X-PUBLISHED-TTL:PT1H
BEGIN:VTIMEZONE
TZID:America/Santiago
BEGIN:STANDARD
TZOFFSETFROM:-0300
TZOFFSETTO:-0400
TZNAME:-04
DTSTART:20230402T030000
END:STANDARD
BEGIN:DAYLIGHT
TZOFFSETFROM:-0400
TZOFFSETTO:-0300
TZNAME:-03
DTSTART:20230903T040000
END:DAYLIGHT
BEGIN:STANDARD
TZOFFSETFROM:-0300
TZOFFSETTO:-0400
TZNAME:-04
DTSTART:20240407T030000
END:STANDARD
BEGIN:DAYLIGHT
TZOFFSETFROM:-0400
TZOFFSETTO:-0300
TZNAME:-03
DTSTART:20240908T040000
END:DAYLIGHT
BEGIN:STANDARD
TZOFFSETFROM:-0300
TZOFFSETTO:-0400
TZNAME:-04
DTSTART:20250406T030000
END:STANDARD
BEGIN:DAYLIGHT
TZOFFSETFROM:-0400
TZOFFSETTO:-0300
TZNAME:-03
DTSTART:20250907T040000
END:DAYLIGHT
END:VTIMEZONE
BEGIN:VEVENT
DTSTART;TZID=America/Santiago:20240321T200000
DTEND;TZID=America/Santiago:20240321T210000
DTSTAMP:20260422T055906
CREATED:20240709T144228Z
LAST-MODIFIED:20240709T144541Z
UID:2419-1711051200-1711054800@www.spah.cl
SUMMARY:Dolor Inguinal Crónico
DESCRIPTION:Master class Dolor Inguinal Crónico\nExpositor: Dr. Brian Jacob
URL:https://www.spah.cl/event/2419/
ATTACH;FMTTYPE=image/jpeg:https://www.spah.cl/wp-content/uploads/2024/07/MasterClass-BrianJacob-SPAH-Mar20233.jpg
END:VEVENT
END:VCALENDAR